BEGIN:VCALENDAR
VERSION:2.0
PRODID:icalendar-ruby
CALSCALE:GREGORIAN
BEGIN:VEVENT
DTSTAMP:20210120T052743Z
UID:ddfefabf-cdbf-4242-ab87-6156399961be
DTSTART;VALUE=DATE:20190915
DESCRIPTION:Property ID# 460248\, Time: 2:00PM
SUMMARY:Auction for 
END:VEVENT
END:VCALENDAR
