BEGIN:VCALENDAR
VERSION:2.0
PRODID:icalendar-ruby
CALSCALE:GREGORIAN
BEGIN:VEVENT
DTSTAMP:20210120T052759Z
UID:e181e754-2f82-441c-ba57-495ac8e37aa0
DTSTART;VALUE=DATE:20190922
DESCRIPTION:Property ID# 460395\, Time: 12:00PM
SUMMARY:Auction for 
END:VEVENT
END:VCALENDAR
