BEGIN:VCALENDAR
VERSION:2.0
PRODID:icalendar-ruby
CALSCALE:GREGORIAN
BEGIN:VEVENT
DTSTAMP:20210120T052757Z
UID:93672075-9bd6-44b9-9944-99fb50a0dbb0
DTSTART;VALUE=DATE:20191216
DESCRIPTION:Property ID# 468404\, Time: 12:00PM
SUMMARY:Auction for 
END:VEVENT
END:VCALENDAR
