BEGIN:VCALENDAR
VERSION:2.0
PRODID:icalendar-ruby
CALSCALE:GREGORIAN
BEGIN:VEVENT
DTSTAMP:20210120T052756Z
UID:1d5765c7-ab27-49fd-b281-85bb4d53cb9b
DTSTART;VALUE=DATE:20200119
DESCRIPTION:Property ID# 468523\, Time: 6:00PM
SUMMARY:Auction for 
END:VEVENT
END:VCALENDAR
