BEGIN:VCALENDAR
VERSION:2.0
PRODID:icalendar-ruby
CALSCALE:GREGORIAN
BEGIN:VEVENT
DTSTAMP:20210120T052802Z
UID:f020bb2a-7ae7-4900-9c56-56e53f497077
DTSTART;VALUE=DATE:20191215
DESCRIPTION:Property ID# 468595\, Time: 12:00PM
SUMMARY:Auction for 
END:VEVENT
END:VCALENDAR
