BEGIN:VCALENDAR
VERSION:2.0
PRODID:icalendar-ruby
CALSCALE:GREGORIAN
BEGIN:VEVENT
DTSTAMP:20210120T051345Z
UID:fb36471a-b545-45d5-9b6f-32d5eb376514
DTSTART;VALUE=DATE:20200305
DESCRIPTION:Property ID# 472362\, Locatoin: on site\, Time: 2:00PM
SUMMARY:Auction for 
END:VEVENT
END:VCALENDAR
