BEGIN:VCALENDAR
VERSION:2.0
PRODID:icalendar-ruby
CALSCALE:GREGORIAN
BEGIN:VEVENT
DTSTAMP:20210120T052808Z
UID:eb6372a5-7436-4161-b147-51c0c7287e26
DTSTART;VALUE=DATE:20200322
DESCRIPTION:Property ID# 474918\, Time: 11:00AM
SUMMARY:Auction for 
END:VEVENT
END:VCALENDAR
