BEGIN:VCALENDAR
VERSION:2.0
PRODID:icalendar-ruby
CALSCALE:GREGORIAN
BEGIN:VEVENT
DTSTAMP:20210120T051357Z
UID:1331899e-80f1-461a-8576-9af9f29064f9
DTSTART;VALUE=DATE:20200515
DESCRIPTION:Property ID# 475055\, Time: 4:00PM
SUMMARY:Auction for 
END:VEVENT
END:VCALENDAR
