BEGIN:VCALENDAR
VERSION:2.0
PRODID:icalendar-ruby
CALSCALE:GREGORIAN
BEGIN:VEVENT
DTSTAMP:20210120T052807Z
UID:382ed1ac-3d88-460a-aede-bd064a6f6373
DTSTART;VALUE=DATE:20200402
DESCRIPTION:Property ID# 475954\, Time: 6:30PM
SUMMARY:Auction for 
END:VEVENT
END:VCALENDAR
