BEGIN:VCALENDAR
VERSION:2.0
PRODID:icalendar-ruby
CALSCALE:GREGORIAN
BEGIN:VEVENT
DTSTAMP:20210120T052754Z
UID:ca6446ce-a95a-40ec-8832-95e27d15c3b7
DTSTART;VALUE=DATE:20200705
DESCRIPTION:Property ID# 482552\, Time: 5:00PM
SUMMARY:Auction for 
END:VEVENT
END:VCALENDAR
