BEGIN:VCALENDAR
VERSION:2.0
PRODID:icalendar-ruby
CALSCALE:GREGORIAN
BEGIN:VEVENT
DTSTAMP:20210120T052753Z
UID:c09a06bf-a69b-4bc1-8428-19a9d4741438
DTSTART;VALUE=DATE:20200719
DESCRIPTION:Property ID# 483758\, Time: 5:00PM
SUMMARY:Auction for 
END:VEVENT
END:VCALENDAR
