BEGIN:VCALENDAR
VERSION:2.0
PRODID:icalendar-ruby
CALSCALE:GREGORIAN
BEGIN:VEVENT
DTSTAMP:20210120T052751Z
UID:bb1f91cd-fe18-42b6-9a20-4d560342aa45
DTSTART;VALUE=DATE:20200726
DESCRIPTION:Property ID# 484152\, Time: 5:00PM
SUMMARY:Auction for 
END:VEVENT
END:VCALENDAR
