BEGIN:VCALENDAR
VERSION:2.0
PRODID:icalendar-ruby
CALSCALE:GREGORIAN
BEGIN:VEVENT
DTSTAMP:20210120T052749Z
UID:3e821f25-dacd-4896-8969-f2c5dccdf137
DTSTART;VALUE=DATE:20200910
DESCRIPTION:Property ID# 487301\, Time: 6:30PM
SUMMARY:Auction for 
END:VEVENT
END:VCALENDAR
