BEGIN:VCALENDAR
VERSION:2.0
PRODID:icalendar-ruby
CALSCALE:GREGORIAN
BEGIN:VEVENT
DTSTAMP:20260424T125602Z
UID:a8dbdc30-b8ee-4acf-8b4d-54fea1d372da
DTSTART;VALUE=DATE:20201013
DESCRIPTION:Property ID# 489785\, Locatoin: 111 Hurstmere Road\, Takapuna\,
  Time: 12:00PM
SUMMARY:Auction for 
END:VEVENT
END:VCALENDAR
