BEGIN:VCALENDAR
VERSION:2.0
PRODID:icalendar-ruby
CALSCALE:GREGORIAN
BEGIN:VEVENT
DTSTAMP:20210120T052741Z
UID:c0525989-295e-46fb-99a0-d7039f3fe355
DTSTART;VALUE=DATE:20201011
DESCRIPTION:Property ID# 490178\, Time: 12:00PM
SUMMARY:Auction for 
END:VEVENT
END:VCALENDAR
