BEGIN:VCALENDAR
VERSION:2.0
PRODID:icalendar-ruby
CALSCALE:GREGORIAN
BEGIN:VEVENT
DTSTAMP:20210120T051416Z
UID:6b0f5ab4-d1d0-4c73-95c9-6c193885d78a
DTSTART;VALUE=DATE:20201015
DESCRIPTION:Property ID# 490368\, Time: 6:30PM
SUMMARY:Auction for 
END:VEVENT
END:VCALENDAR
