BEGIN:VCALENDAR
VERSION:2.0
PRODID:icalendar-ruby
CALSCALE:GREGORIAN
BEGIN:VEVENT
DTSTAMP:20210120T051356Z
UID:4f6f46f1-9bca-4558-8436-d4514d7d1d8f
DTSTART;VALUE=DATE:20201124
DESCRIPTION:Property ID# 494608\, Locatoin: 111 Hurstmere Road\, Takapuna\,
  Time: 4:00PM
SUMMARY:Auction for 
END:VEVENT
END:VCALENDAR
