BEGIN:VCALENDAR
VERSION:2.0
PRODID:icalendar-ruby
CALSCALE:GREGORIAN
BEGIN:VEVENT
DTSTAMP:20210120T051344Z
UID:67c4a596-c6ed-4cda-b678-cb24158bba7a
DTSTART;VALUE=DATE:20201206
DESCRIPTION:Property ID# 495567\, Time: 4:00PM
SUMMARY:Auction for 
END:VEVENT
END:VCALENDAR
