BEGIN:VCALENDAR
VERSION:2.0
PRODID:icalendar-ruby
CALSCALE:GREGORIAN
BEGIN:VEVENT
DTSTAMP:20210120T052818Z
UID:c7694c60-d372-4d44-adc3-ed4800ad5419
DTSTART;VALUE=DATE:20201210
DESCRIPTION:Property ID# 496455\, Time: 12:00PM
SUMMARY:Auction for 
END:VEVENT
END:VCALENDAR
