BEGIN:VCALENDAR
VERSION:2.0
PRODID:icalendar-ruby
CALSCALE:GREGORIAN
BEGIN:VEVENT
DTSTAMP:20260422T012021Z
UID:b6d50c70-92ae-433e-af66-e5ebaadbaab7
DTSTART;VALUE=DATE:20191124
DESCRIPTION:Property ID# 465290\, Time: 12:00PM
SUMMARY:Auction for 
END:VEVENT
END:VCALENDAR
