BEGIN:VCALENDAR
VERSION:2.0
PRODID:icalendar-ruby
CALSCALE:GREGORIAN
BEGIN:VEVENT
DTSTAMP:20260422T012047Z
UID:92c254ff-ea96-4abf-9123-67a4d7f396a5
DTSTART;VALUE=DATE:20201203
DESCRIPTION:Property ID# 492600\, Time: 6:30PM
SUMMARY:Auction for 
END:VEVENT
END:VCALENDAR
