BEGIN:VCALENDAR
VERSION:2.0
PRODID:icalendar-ruby
CALSCALE:GREGORIAN
BEGIN:VEVENT
DTSTAMP:20260424T203935Z
UID:b9a041d2-54b2-4163-8207-9a18059d4068
DTSTART;VALUE=DATE:20210225
DESCRIPTION:Property ID# 500315\, Time: 6:30PM
SUMMARY:Auction for 
END:VEVENT
END:VCALENDAR
