BEGIN:VCALENDAR
VERSION:2.0
PRODID:icalendar-ruby
CALSCALE:GREGORIAN
BEGIN:VEVENT
DTSTAMP:20260421T084400Z
UID:4aac9b69-c189-4a77-b78a-f366a5ad3c71
DTSTART;VALUE=DATE:20210321
DESCRIPTION:Property ID# 502985\, Locatoin: Onsite\, Time: 12:30PM
SUMMARY:Auction for 
END:VEVENT
END:VCALENDAR
