BEGIN:VCALENDAR
VERSION:2.0
PRODID:icalendar-ruby
CALSCALE:GREGORIAN
BEGIN:VEVENT
DTSTAMP:20260420T084300Z
UID:f6057a2f-1855-4c2b-b1c5-b7aa69e85ac8
DTSTART;VALUE=DATE:20211003
DESCRIPTION:Property ID# 516010\, Time: 6:00PM
SUMMARY:Auction for 
END:VEVENT
END:VCALENDAR
