BEGIN:VCALENDAR
VERSION:2.0
PRODID:icalendar-ruby
CALSCALE:GREGORIAN
BEGIN:VEVENT
DTSTAMP:20260422T091000Z
UID:ed460008-4132-4275-b3c6-1df3109ec28f
DTSTART;VALUE=DATE:20211031
DESCRIPTION:Property ID# 518757\, Time: 3:00PM
SUMMARY:Auction for 
END:VEVENT
END:VCALENDAR
