BEGIN:VCALENDAR
VERSION:2.0
PRODID:icalendar-ruby
CALSCALE:GREGORIAN
BEGIN:VEVENT
DTSTAMP:20260419T151012Z
UID:76cade16-4155-40b9-9ca4-514216989740
DTSTART;VALUE=DATE:20220803
DESCRIPTION:Property ID# 540305\, Locatoin: 8-12 The Promenade\, Takapuna\,
  Time: 10:00AM
SUMMARY:Auction for 
END:VEVENT
END:VCALENDAR
