BEGIN:VCALENDAR
VERSION:2.0
PRODID:icalendar-ruby
CALSCALE:GREGORIAN
BEGIN:VEVENT
DTSTAMP:20260420T140500Z
UID:6d0da37e-790f-4885-b05f-214ce9b2c9e8
DTSTART;VALUE=DATE:20251106
DESCRIPTION:Property ID# 598549\, Locatoin: USP\, Time: 12:00PM
SUMMARY:Auction for 
END:VEVENT
END:VCALENDAR
